BEGIN:VCALENDAR
VERSION:2.0
PRODID:-//Kymin Suunnistajat - ECPv6.15.18//NONSGML v1.0//EN
CALSCALE:GREGORIAN
METHOD:PUBLISH
X-ORIGINAL-URL:https://www.kyminsuunnistajat.fi
X-WR-CALDESC:Tapahtumat Kymin Suunnistajat
REFRESH-INTERVAL;VALUE=DURATION:PT1H
X-Robots-Tag:noindex
X-PUBLISHED-TTL:PT1H
BEGIN:VTIMEZONE
TZID:Europe/Helsinki
BEGIN:DAYLIGHT
TZOFFSETFROM:+0200
TZOFFSETTO:+0300
TZNAME:EEST
DTSTART:20250330T010000
END:DAYLIGHT
BEGIN:STANDARD
TZOFFSETFROM:+0300
TZOFFSETTO:+0200
TZNAME:EET
DTSTART:20251026T010000
END:STANDARD
BEGIN:DAYLIGHT
TZOFFSETFROM:+0200
TZOFFSETTO:+0300
TZNAME:EEST
DTSTART:20260329T010000
END:DAYLIGHT
BEGIN:STANDARD
TZOFFSETFROM:+0300
TZOFFSETTO:+0200
TZNAME:EET
DTSTART:20261025T010000
END:STANDARD
BEGIN:DAYLIGHT
TZOFFSETFROM:+0200
TZOFFSETTO:+0300
TZNAME:EEST
DTSTART:20270328T010000
END:DAYLIGHT
BEGIN:STANDARD
TZOFFSETFROM:+0300
TZOFFSETTO:+0200
TZNAME:EET
DTSTART:20271031T010000
END:STANDARD
END:VTIMEZONE
BEGIN:VEVENT
DTSTART;TZID=Europe/Helsinki:20260408T183000
DTEND;TZID=Europe/Helsinki:20260408T193000
DTSTAMP:20260420T055252
CREATED:20260405T082402Z
LAST-MODIFIED:20260405T082402Z
UID:2011-1775673000-1775676600@www.kyminsuunnistajat.fi
SUMMARY:Taitoharjoitus\, sprinttihässäkkä
DESCRIPTION:Harjoitusinfo\nNopeatempoinen sprinttihässäkkä koulun pihakartalla. Radat kulkevat pienellä alueella ja sisältävät paljon lähekkäisiä rasteja\, eli tarkkuutta tässä. Kartan luettavuutta on selkeytetty kartan käännöllä. Lisää tempoa ja vipinää harjoitukseen luo yhteislähtö ja hajontakuviot. Harjoituksen yhteislähtö tapahtuu klo 18:30. Veryttelyt tapahtuvat omatoimisesti ennen tätä\, eli varaa tähän haluamasi aika. \nPysäköinti Mussalon koulun pääparkkipaikalla. \nKartta\nA4 1:2500 2m \nDaniel Koivisto 2021 + 2025 \nkartoitustyyli suunnattu opetukseen. Kartta on ylitarkka. \nRadat\n4 km (Sprintti) (Hajonnalla) \n2 km (Aloittelija) \nHarjoituksen tavoite\nPieni alue ja yhteislähtö takaavat sähäkän harjoituksen. Harjoituksen haaste on pysyä keskittyneenä omaan suoritukseen\, siitä huolimatta\, että ympärillä tapahtuu paljon. Runsas rastimäärä ja suunnistuksen nopeatempoisuus ei anna mahdollisuutta keskittymisen herpaantumiselle. Saattaapa maastossa olla vielä jotain ratamestarin jekkujakin. \nIlmoittaudu tästä!\nKatso ilmoittautuneet tästä.
URL:https://www.kyminsuunnistajat.fi/tapahtuma/taitoharjoitus-sprinttihassakka/
LOCATION:Mussalon koulu\, Rajakalliontie 10\, KOTKA\, Please choose\, 48310\, Finland
CATEGORIES:Aikuisten ryhmä,Lasten ryhmä,Nuorten ryhmä,Seura
END:VEVENT
BEGIN:VEVENT
DTSTART;TZID=Europe/Helsinki:20260414T173000
DTEND;TZID=Europe/Helsinki:20260414T183000
DTSTAMP:20260420T055252
CREATED:20260413T105527Z
LAST-MODIFIED:20260413T110415Z
UID:2020-1776187800-1776191400@www.kyminsuunnistajat.fi
SUMMARY:Sprinttiharjoitus (Rannikkorastit)
DESCRIPTION:Harjoitusinfo\nTarjolla Rannikkorastien radat (Rannikkorastimaksu). Lisäksi tarjolla kaikille Rannikkorastien osallistujille avoin micromuistisuunnistus\, joka sopii hyvin taidolliseksi alkuveryttelyksi suoritukselle. Muistisuunnistuksen tarkoitus on herätellä suunnitelman tekoa ja ennakkojen valitsemista. Muistisuunnistus on avoinna Rannikkorastien lähtöaikojen puitteissa 17-18:30. \nLisäinfoa sprinttiradoista ja tapahtumasta tästä ja tästä. \nPaikanpäällä voit myös tulla keskustelemaan suorituksestasi ennen tai jälkeen ja saada apua ja vinkkejä tavoitteisiin ja analyysiin. \nTapahtuma EI vaadi ennakkoilmoittautumista. \n  \nJärjestäjät\nJärjestäjä: Kymin Suunnistajat + Rannikkorastit \nRatamestari: Miina Hietala \nValmennus + muisti: Daniel Koivisto \nKysymykset ja tiedustelut: danielkoivisto.o@gmail.com
URL:https://www.kyminsuunnistajat.fi/tapahtuma/sprinttiharjoitus-rannikkorastit/
LOCATION:Katariinan meripuisto\, Öljysatamantie 4\, KOTKA\, Please choose\, 48310\, Finland
END:VEVENT
END:VCALENDAR