BEGIN:VCALENDAR
VERSION:2.0
PRODID:-//Kymin Suunnistajat - ECPv6.15.18//NONSGML v1.0//EN
CALSCALE:GREGORIAN
METHOD:PUBLISH
X-ORIGINAL-URL:https://www.kyminsuunnistajat.fi
X-WR-CALDESC:Tapahtumat Kymin Suunnistajat
REFRESH-INTERVAL;VALUE=DURATION:PT1H
X-Robots-Tag:noindex
X-PUBLISHED-TTL:PT1H
BEGIN:VTIMEZONE
TZID:Europe/Helsinki
BEGIN:DAYLIGHT
TZOFFSETFROM:+0200
TZOFFSETTO:+0300
TZNAME:EEST
DTSTART:20230326T010000
END:DAYLIGHT
BEGIN:STANDARD
TZOFFSETFROM:+0300
TZOFFSETTO:+0200
TZNAME:EET
DTSTART:20231029T010000
END:STANDARD
BEGIN:DAYLIGHT
TZOFFSETFROM:+0200
TZOFFSETTO:+0300
TZNAME:EEST
DTSTART:20240331T010000
END:DAYLIGHT
BEGIN:STANDARD
TZOFFSETFROM:+0300
TZOFFSETTO:+0200
TZNAME:EET
DTSTART:20241027T010000
END:STANDARD
BEGIN:DAYLIGHT
TZOFFSETFROM:+0200
TZOFFSETTO:+0300
TZNAME:EEST
DTSTART:20250330T010000
END:DAYLIGHT
BEGIN:STANDARD
TZOFFSETFROM:+0300
TZOFFSETTO:+0200
TZNAME:EET
DTSTART:20251026T010000
END:STANDARD
BEGIN:DAYLIGHT
TZOFFSETFROM:+0200
TZOFFSETTO:+0300
TZNAME:EEST
DTSTART:20260329T010000
END:DAYLIGHT
BEGIN:STANDARD
TZOFFSETFROM:+0300
TZOFFSETTO:+0200
TZNAME:EET
DTSTART:20261025T010000
END:STANDARD
END:VTIMEZONE
BEGIN:VEVENT
DTSTART;TZID=Europe/Helsinki:20250506T170000
DTEND;TZID=Europe/Helsinki:20250506T200000
DTSTAMP:20260419T160457
CREATED:20250423T110002Z
LAST-MODIFIED:20250425T053522Z
UID:1620-1746550800-1746561600@www.kyminsuunnistajat.fi
SUMMARY:Rannikkorastit Haminan liikuntahallilla
DESCRIPTION:Rannikkorastit-kauden 8. tapahtuma Haminan liikuntahallilla. Lähtö auki klo 17.00 – 18.30. Maali sulkeutuu klo 20.00. \nLisätietoja tapahtumasta Rannikkorastien sivuilta: https://www.rannikkorastit.fi/event/hamina-liikuntahalli/
URL:https://www.kyminsuunnistajat.fi/tapahtuma/hamina-liikuntahalli/
CATEGORIES:Rannikkorastit
END:VEVENT
BEGIN:VEVENT
DTSTART;TZID=Europe/Helsinki:20250501T120000
DTEND;TZID=Europe/Helsinki:20250501T143000
DTSTAMP:20260419T160457
CREATED:20250423T110001Z
LAST-MODIFIED:20250425T101848Z
UID:1619-1746100800-1746109800@www.kyminsuunnistajat.fi
SUMMARY:Rannikkorastit Myllykylässä
DESCRIPTION:Rannikkorastit-kauden 7. tapahtuma Myllykylässä. Lähtö auki klo 12.00 – 13. Maali sulkeutuu klo 14.30. \nLisätietoja tapahtumasta Rannikkorastien sivuilta: https://www.rannikkorastit.fi/event/myllykyla-3/
URL:https://www.kyminsuunnistajat.fi/tapahtuma/myllykyla/
CATEGORIES:Rannikkorastit
END:VEVENT
BEGIN:VEVENT
DTSTART;TZID=Europe/Helsinki:20250429T170000
DTEND;TZID=Europe/Helsinki:20250429T200000
DTSTAMP:20260419T160457
CREATED:20250423T110001Z
LAST-MODIFIED:20250425T101754Z
UID:1618-1745946000-1745956800@www.kyminsuunnistajat.fi
SUMMARY:Rannikkorastit Koivulassa
DESCRIPTION:Rannikkorastit-kauden 6. tapahtuma Koivulassa. Lähtö auki klo 17.00 – 18.30. Maali sulkeutuu klo 20.00. \nLisätietoja tapahtumasta Rannikkorastien sivuilta: https://www.rannikkorastit.fi/event/koivula-3/
URL:https://www.kyminsuunnistajat.fi/tapahtuma/koivula/
CATEGORIES:Rannikkorastit
END:VEVENT
BEGIN:VEVENT
DTSTART;TZID=Europe/Helsinki:20250424T170000
DTEND;TZID=Europe/Helsinki:20250424T200000
DTSTAMP:20260419T160457
CREATED:20250423T105959Z
LAST-MODIFIED:20250423T185005Z
UID:1617-1745514000-1745524800@www.kyminsuunnistajat.fi
SUMMARY:Rannikkorastit Tarmolassa
DESCRIPTION:Rannikkorastit-kauden 5. tapahtuma Tarmolassa. Lähtö auki klo 17.00 – 18.30. Maali sulkeutuu klo 20.00. \nLisätietoja tapahtumasta Rannikkorastien sivulta: https://www.rannikkorastit.fi/event/tarmola-3/
URL:https://www.kyminsuunnistajat.fi/tapahtuma/tarmola/
LOCATION:Tarmola\, Tiiliruukinkatu 2\, Hamina
CATEGORIES:Rannikkorastit
END:VEVENT
BEGIN:VEVENT
DTSTART;TZID=Europe/Helsinki:20250423T180000
DTEND;TZID=Europe/Helsinki:20250423T210000
DTSTAMP:20260419T160457
CREATED:20250423T053241Z
LAST-MODIFIED:20250423T053626Z
UID:1599-1745431200-1745442000@www.kyminsuunnistajat.fi
SUMMARY:Seuratreenit
DESCRIPTION:Luento + suunnistusharjoitus\n23.4.2025 klo 18:00\nMussalo \nAikataulu + sijainnit\n18-18:45 Luento\, Suunnistusajattelu.\nHaavisto \n19:00 Suunnistusharjoitus\, Keskimatka\nSantalahti \nRadat \n\nLinkki suunnistusliiton uuteen väriasteikkoon \nMaasto\nMaasto alueena Santalahti kompakti. Maastossa kulkevat tiet ja luontopolku takaavat selkeän tukiverkoston. Maaston paikoitellen tiheä kasvillisuus sekä jyrkät kivikkoiset rinteet tarjoavat rastinoton lisäksi haastetta myös reitin valintaan. Mäkien päältä löytyy puolestaan juostavaa nopeaa avokalliota. \nHarjoituksen tavoite\nTällä kertaa tämä osuus lyhyesti ja luennolla sitten laajemmin. Harjoituksen tavoite on muistella mieliin ja vahvistaa omia kartanluku rutiineja. Vakioidut toimintamallit ovat edellytys suunnistus varmuuden muodostumiselle.\nEnnen harjoitusta kannattaa muistella omia kartanluku rutiineja. Kannattaa myös pohtia\, mitä kaikkea suunnistajan kannattaa väliltä huomioida ja ennen kaikkea mitkä huomiot tehdään ensin ja mitkä myöhemmin rastivälisuunnitelmaa tehdessä. \nTule rohkeasti mukaan\, ilmoittautumista ei tällä aikataululla enää tarvita. 
URL:https://www.kyminsuunnistajat.fi/tapahtuma/seuratreenit/
LOCATION:Haavisto\, Kotolahdentie 5
CATEGORIES:Seura
END:VEVENT
BEGIN:VEVENT
DTSTART;TZID=Europe/Helsinki:20250417T170000
DTEND;TZID=Europe/Helsinki:20250417T200000
DTSTAMP:20260419T160457
CREATED:20250423T105958Z
LAST-MODIFIED:20250423T105958Z
UID:1615-1744909200-1744920000@www.kyminsuunnistajat.fi
SUMMARY:Karhuvuori
DESCRIPTION:Rannikkorastit-kauden 3. tapahtuma Karhuvuoressa. Lähtö auki klo 17.00 – 18.30. Maali sulkeutuu klo 20.00. \nKartta \nRatamestari– \nTuloslaskenta– \nTapahtumajärjestäjä– \nRatapituudet ja rastien lukumäärätA-rataB-rataC-rataD-rata \nOpastus–
URL:https://www.kyminsuunnistajat.fi/tapahtuma/karhuvuori/
CATEGORIES:No
END:VEVENT
BEGIN:VEVENT
DTSTART;TZID=Europe/Helsinki:20250415T170000
DTEND;TZID=Europe/Helsinki:20250415T200000
DTSTAMP:20260419T160457
CREATED:20250423T105958Z
LAST-MODIFIED:20250423T105958Z
UID:1614-1744736400-1744747200@www.kyminsuunnistajat.fi
SUMMARY:Neuvoton
DESCRIPTION:Rannikkorastit-kauden 2. tapahtuma Neuvottomassa. Lähtö auki klo 17.00 – 18.30. Maali sulkeutuu klo 20.00. \nKartta \nRatamestari– \nTuloslaskenta– \nTapahtumajärjestäjä– \nRatapituudet ja rastien lukumäärätA-rataB-rataC-rataD-rata \nOpastus–
URL:https://www.kyminsuunnistajat.fi/tapahtuma/neuvoton/
LOCATION:Neuvoton\, Hevossaari\, Lauvanniementie 102\, Hamina
CATEGORIES:No
END:VEVENT
BEGIN:VEVENT
DTSTART;TZID=Europe/Helsinki:20250410T190000
DTEND;TZID=Europe/Helsinki:20250410T213000
DTSTAMP:20260419T160457
CREATED:20250325T144312Z
LAST-MODIFIED:20250325T144312Z
UID:1544-1744311600-1744320600@www.kyminsuunnistajat.fi
SUMMARY:Rannikkorastien ratamestarikoulutus (Verkkokoulutus)
DESCRIPTION:Rannikkorastien ratamestarikoulutus pidetään torstaina 10.4.2025 kello 19-21.30 verkkokoulutuksena. \nIlmoittautumiset Kääriäisen Kimmolle: kimmo@kyminsuunnistajat.fi \nTervetuloa kuulemaan ratojen suunnittelusta\, olet sitten ensi kertaa tekemässä ratoja tai jo niitä aikaisemminkin tehnyt! \nHuom! Vastaava koulutus pidetään ”paikan päällä” -koulutuksena torstaina 3.4.2025 kello 19-21.30 Kumppanuustalo Viikarissa Kotkassa.
URL:https://www.kyminsuunnistajat.fi/tapahtuma/rannikkorastien-ratamestarikoulutus-verkkokoulutus/
END:VEVENT
BEGIN:VEVENT
DTSTART;TZID=Europe/Helsinki:20250403T190000
DTEND;TZID=Europe/Helsinki:20250403T213000
DTSTAMP:20260419T160457
CREATED:20250325T143854Z
LAST-MODIFIED:20250325T143854Z
UID:1542-1743706800-1743715800@www.kyminsuunnistajat.fi
SUMMARY:Rannikkorastien ratamestarikoulutus (Kumppanuustalo Viikari)
DESCRIPTION:Rannikkorastien ratamestarikoulutus pidetään torstaina 3.4.2025 kello 19-21.30 Kumppanuustalo Viikarissa\, Poukama-kokoustilassa. \nIlmoittautumiset Kääriäisen Kimmolle: kimmo@kyminsuunnistajat.fi \nTervetuloa kuulemaan ratojen suunnittelusta\, olet sitten ensi kertaa tekemässä ratoja tai jo niitä aikaisemminkin tehnyt! \nHuom! Jos ajankohta ei ole sopiva\, niin vastaava koulutus pidetään myös etänä to 10.4.
URL:https://www.kyminsuunnistajat.fi/tapahtuma/rannikkorastien-ratamestarikoulutus-kumppanuustalo-viikari/
LOCATION:Kumppanuustalo Viikari\, Mariankatu 24\, Kotka\, Finland
END:VEVENT
BEGIN:VEVENT
DTSTART;TZID=Europe/Helsinki:20250316T110000
DTEND;TZID=Europe/Helsinki:20250316T120000
DTSTAMP:20260419T160457
CREATED:20250312T175423Z
LAST-MODIFIED:20250316T113952Z
UID:1535-1742122800-1742126400@www.kyminsuunnistajat.fi
SUMMARY:EsiRannarit Karhuvuoren vesitornin maastossa
DESCRIPTION:Suunnistuskesää ja Rannikkorastien alkua odotellessa järjestetään sunnuntaina 16.3. klo 11.00 esiRannarit Karhuvuoren vesitornin maastossa. Lähtö on avoinna kello 11.00-12.00. \nLähtö ja maali sijaitsevat Urheilutalon pääsisäänkäynnin lähistöllä. Pysäköinti esimerkiksi Urheilutalon parkkialueella tai Karhuvuoren kuntoradan parkkialueella. \nRatoja on tarjolla seuraavasti: \n\nB/C -tasoinen 4\,8 km:n 16-rastinen rata\nC/D -tasoinen lyhyempi korttelialueeseen tukeutuva 9-rastinen rata.\n\nRasteilla on siniset nauhat\, jotka jäävät tapahtuman jälkeen maastoon omatoimisuunnistusta varten. Sunnuntaina rasteilla on rastiliput ja osalla rasteista myös Emit-leimasimet. \nNormaali 8 euron karttamaksu\, jonka voi hoitaa myös liikuntaeduilla. Yritetään herätellä myös sähköiset maksutavat syksyn jäljiltä. Kauden 2025 kausikortin lunastajille tapahtuma sisältyy korttiin. \nRatamestarina tapahtumassa toimii Lassi Kaitainen ja tapahtumajärjestämisen sekä tuloslaskennan hoitavat Marja ja Hannu Währn. \nTulokset \nReittihärveli \nTervetuloa! \n 
URL:https://www.kyminsuunnistajat.fi/tapahtuma/esirannarit-karhuvuoren-vesitornin-maastossa/
LOCATION:Karhuvuori\, Urheilutalo\, Ututie 4\, Kotka\, Finland
END:VEVENT
BEGIN:VEVENT
DTSTART;TZID=Europe/Helsinki:20241230T120000
DTEND;TZID=Europe/Helsinki:20250106T180000
DTSTAMP:20260419T160457
CREATED:20241230T091810Z
LAST-MODIFIED:20241230T092603Z
UID:1469-1735560000-1736186400@www.kyminsuunnistajat.fi
SUMMARY:Kinkunsulatusrastit - Itäranta-Äijänniemi -alueella
DESCRIPTION:Hannu Pönni järjestää omatoimisuunnistukset Itäranta-Äijänniemi alueella. Rasteilla on vain rastiliput. Maasto on sulaa ainakin sunnuntaina 29.12. siellä täällä lunta nekin ohutta kerrosta. Kartalla on paljon polkuja ja polut on osittain jäisiä\, suurin osa poluista sulia. \nKartat saa osoitteesta Myrskykatu 15 A autokatoksesta. Lähtö on Rajakadulla noin 1 km kartanhakupaikalta\, lähtöön pääsee autolla. Autot voi pysäköidä joko Metsäkulmankadun tai Rajakadun varelle. \nVapaaehtoinen karttamaksu Kymin Suunnistajien tilille FI77 5172 0220 0249 22 tai SuomiSport -tapahtumaan: https://www.suomisport.fi/events/41f1bc52-75fb-4a3e-9832-99e278723330 \nHyvää kinkunsulatus suunnistusta! \nP.S. Tapahtumaan voi osallistua myös sulattaakseen muita joulun tai uudenvuoden ajan herkkuja!
URL:https://www.kyminsuunnistajat.fi/tapahtuma/kinkunsulatusrastit-itaranta-aijanniemi-alueella/
CATEGORIES:Seura
END:VEVENT
BEGIN:VEVENT
DTSTART;TZID=Europe/Helsinki:20241125T180000
DTEND;TZID=Europe/Helsinki:20241125T200000
DTSTAMP:20260419T160457
CREATED:20241111T192435Z
LAST-MODIFIED:20241111T192435Z
UID:1458-1732557600-1732564800@www.kyminsuunnistajat.fi
SUMMARY:Seuran sääntömääräinen syyskokous
DESCRIPTION:Tervetuloa Kymin Suunnistajien syyskokoukseen. \nKäsitellään alla olevan esityslistan mukaiset asiat. Tarjolla kahvia ja pullaa. \n\nKokouksen avaus\nValitaan kokoukselle\n– puheenjohtaja\n– sihteeri\n– kaksi pöytäkirjan tarkastajaa\n– ääntenlaskijat\nTodetaan\n– läsnäolijat\n– äänioikeutetut jäsenet\nTodetaan kokouksen laillisuus ja päätösvaltaisuus\nVahvistetaan tulevaksi toimintakaudeksi\n– toimintasuunnitelma\n– talousarvio\nValitaan puheenjohtaja vuodeksi 2025\nValitaan seuraavaksi toimintavuodeksi (2025) johtokunnan jäsenet\nValitaan kaksi toiminnantarkastajaa ja heille varatoiminnantarkastajat\nVahvistetaan jäsenmaksujen suuruus\nValitaan edustajat alueen ja liiton kokouksiin tai annetaan johtokunnalle valtuudet henkilöiden valintaan\nKäsitellään johtokunnan esittämät tai jäsenten 11 §:n mukaisesti vireille panemat asiat\nKokouksen päättäminen
URL:https://www.kyminsuunnistajat.fi/tapahtuma/seuran-saantomaarainen-syyskokous/
LOCATION:Kumppanuustalo Viikari\, Mariankatu 24\, Kotka\, Finland
END:VEVENT
BEGIN:VEVENT
DTSTART;TZID=Europe/Helsinki:20241103T120000
DTEND;TZID=Europe/Helsinki:20241103T170000
DTSTAMP:20260419T160457
CREATED:20241001T173417Z
LAST-MODIFIED:20241001T173417Z
UID:1429-1730635200-1730653200@www.kyminsuunnistajat.fi
SUMMARY:Kauden päättäjäiset ja seuran mestaruuskilpailut Santalahden Maijanrannassa
DESCRIPTION:Kymin Suunnistajien kauden päättäjäiset ja samalla myös seuran mestaruuskilpailut järjestetään sunnuntaina 3.11.2024 kello 12 lähtien Santalahden Maijanrannassa. \nSuunnistusosuudessa voit osallistua mestaruuskilpailuihin (ajanotto) tai käydä suunnistamassa kilpailun ulkopuolella (ei ajanottoa). \nTarjolla on myös saunat\, mahantäytettä\, palkitsemisia ja tuoreinta tietoa Kotka-Jukolasta. \nOlet sitten osallistumassa suunnistusosuuteen tai et\, ilmoittauduthan ennakkoon linkistä löytyvällä lomakkeella\, niin osaamme arvioida niin karttojen kuin tarjoiluiden määrän. \nNormaalien ratojen ratamestarina toimii Timo Väyrynen ja lasten siimariradoilla Riikka ja Jyrki Metsola. \nHuom! Seuraathan seuran tiedotusta -> tapahtuman tarkempi sisältö ja aikataulut saattavat tarkentua lähempänä tapahtumaa. \nLinkki ilmoittautumislomakkeeseen: https://forms.gle/1PCikiPGgdqE94B5A \nTERVETULOA!
URL:https://www.kyminsuunnistajat.fi/tapahtuma/kauden-paattajaiset-ja-seuran-mestaruuskilpailut-santalahden-maijanrannassa/
LOCATION:Maijanranta\, Santalahti\, Pollaritie\, Kotka\, Finland
CATEGORIES:Seura
END:VEVENT
BEGIN:VEVENT
DTSTART;TZID=Europe/Helsinki:20241020T110000
DTEND;TZID=Europe/Helsinki:20241020T140000
DTSTAMP:20260419T160457
CREATED:20240603T103451Z
LAST-MODIFIED:20240603T103451Z
UID:1065-1729422000-1729432800@www.kyminsuunnistajat.fi
SUMMARY:Rannikkorastit Kotkan Itärannassa
DESCRIPTION:Rannikkorastit-kauden 49. tapahtuma Kotkan Itärannassa. \nLisätiedot: Rannikkorastit.fi
URL:https://www.kyminsuunnistajat.fi/tapahtuma/rannikkorastit-kotkan-itarannassa/
LOCATION:Itäranta\, Nuottakatu\, Nuottakatu 15\, Kotka
CATEGORIES:Rannikkorastit
END:VEVENT
BEGIN:VEVENT
DTSTART;TZID=Europe/Helsinki:20241013T110000
DTEND;TZID=Europe/Helsinki:20241013T140000
DTSTAMP:20260419T160457
CREATED:20240603T103249Z
LAST-MODIFIED:20240603T103249Z
UID:1062-1728817200-1728828000@www.kyminsuunnistajat.fi
SUMMARY:Rannikkorastit Kotkan Luovissa
DESCRIPTION:Rannikkorastit-kauden 48. tapahtuma Luovissa. Ruskajuoksu\, yhteislähtö. \nLisätiedot: Rannikkorastit.fi
URL:https://www.kyminsuunnistajat.fi/tapahtuma/rannikkorastit-kotkan-luovissa/
LOCATION:Kumparepuisto\, Muuralankuja 53\, Kotka
CATEGORIES:Rannikkorastit
END:VEVENT
BEGIN:VEVENT
DTSTART;TZID=Europe/Helsinki:20241006T110000
DTEND;TZID=Europe/Helsinki:20241006T140000
DTSTAMP:20260419T160457
CREATED:20240603T103055Z
LAST-MODIFIED:20240603T103055Z
UID:1059-1728212400-1728223200@www.kyminsuunnistajat.fi
SUMMARY:Rannikkorastit Kotkan Aittakorvessa
DESCRIPTION:Rannikkorastit-kauden 47. tapahtuma Kotkan Aittakorvessa. \nLisätiedot: Rannikkorastit.fi
URL:https://www.kyminsuunnistajat.fi/tapahtuma/rannikkorastit-kotkan-aittakorvessa/
LOCATION:Aittakorpi\, Vesantie\, Kotka
CATEGORIES:Rannikkorastit
END:VEVENT
BEGIN:VEVENT
DTSTART;TZID=Europe/Helsinki:20240929T110000
DTEND;TZID=Europe/Helsinki:20240929T140000
DTSTAMP:20260419T160457
CREATED:20240603T102902Z
LAST-MODIFIED:20240603T102902Z
UID:1055-1727607600-1727618400@www.kyminsuunnistajat.fi
SUMMARY:Rannikkorastit Kotkan Laajakoskella
DESCRIPTION:Rannikkorastit-kauden 46. tapahtuma Laajakoskella. \nLisätiedot: Rannikkorastit.fi
URL:https://www.kyminsuunnistajat.fi/tapahtuma/rannikkorastit-kotkan-laajakoskella/
LOCATION:Laajakoski\, Sydänsuo\, Laajakoskentie 805\, Kotka
CATEGORIES:Rannikkorastit
END:VEVENT
BEGIN:VEVENT
DTSTART;TZID=Europe/Helsinki:20240919T170000
DTEND;TZID=Europe/Helsinki:20240919T200000
DTSTAMP:20260419T160457
CREATED:20240603T102649Z
LAST-MODIFIED:20240603T102649Z
UID:1052-1726765200-1726776000@www.kyminsuunnistajat.fi
SUMMARY:Rannikkorastit Pyhtään Huutjärvellä
DESCRIPTION:Rannikkorastit-kauden 45. tapahtuma Pyhtään Huutjärvellä. \nLisätiedot: Rannikkorastit.fi
URL:https://www.kyminsuunnistajat.fi/tapahtuma/rannikkorastit-pyhtaan-huutjarvella/
LOCATION:Huutjärvi\, Huutjärventie 56\, Pyhtää
CATEGORIES:Rannikkorastit
END:VEVENT
BEGIN:VEVENT
DTSTART;TZID=Europe/Helsinki:20240917T170000
DTEND;TZID=Europe/Helsinki:20240917T200000
DTSTAMP:20260419T160457
CREATED:20240604T085550Z
LAST-MODIFIED:20240604T085550Z
UID:1119-1726592400-1726603200@www.kyminsuunnistajat.fi
SUMMARY:Rannikkorastit Haminan Husulassa
DESCRIPTION:Rannikkorastit-kauden 44. tapahtuma Haminan Husulassa. \nLisätiedot: Rannikkorastit.fi
URL:https://www.kyminsuunnistajat.fi/tapahtuma/rannikkorastit-haminan-husulassa-2/
LOCATION:Husula\, Tikkamäki\, Kapakkamäentie 96
CATEGORIES:Rannikkorastit
END:VEVENT
BEGIN:VEVENT
DTSTART;TZID=Europe/Helsinki:20240912T170000
DTEND;TZID=Europe/Helsinki:20240912T200000
DTSTAMP:20260419T160457
CREATED:20240603T102414Z
LAST-MODIFIED:20240603T102414Z
UID:1049-1726160400-1726171200@www.kyminsuunnistajat.fi
SUMMARY:Rannikkorastit Haminan Uuperissa
DESCRIPTION:Rannikkorastit-kauden 43. tapahtuma Uuperissa. \nLisätiedot: Rannikkorastit.fi
URL:https://www.kyminsuunnistajat.fi/tapahtuma/rannikkorastit-haminan-uuperissa/
LOCATION:Uuperi\, Viirankankaantie 236\, Hamina
CATEGORIES:Rannikkorastit
END:VEVENT
BEGIN:VEVENT
DTSTART;TZID=Europe/Helsinki:20240910T170000
DTEND;TZID=Europe/Helsinki:20240910T200000
DTSTAMP:20260419T160457
CREATED:20240604T090435Z
LAST-MODIFIED:20240604T090435Z
UID:1118-1725987600-1725998400@www.kyminsuunnistajat.fi
SUMMARY:Rannikkorastit Metsäkylässä
DESCRIPTION:Rannikkorastit-kauden 42. tapahtuma Haminan Metsäkylässä. \nLisätiedot: Rannikkorastit.fi
URL:https://www.kyminsuunnistajat.fi/tapahtuma/rannikkorastit-metsakylassa/
LOCATION:Metsäkylä\, Lakaliini\, Metsäkyläntie 183\, Hamina
CATEGORIES:Rannikkorastit
END:VEVENT
BEGIN:VEVENT
DTSTART;TZID=Europe/Helsinki:20240905T170000
DTEND;TZID=Europe/Helsinki:20240905T200000
DTSTAMP:20260419T160457
CREATED:20240603T102200Z
LAST-MODIFIED:20240603T102200Z
UID:1046-1725555600-1725566400@www.kyminsuunnistajat.fi
SUMMARY:Rannikkorastit Pyhtään Kokkovuorella
DESCRIPTION:Rannikkorastit-kauden 41. tapahtuma Pyhtään Kokkovuorella. \nLisätiedot: Rannikkorastit.fi
URL:https://www.kyminsuunnistajat.fi/tapahtuma/rannikkorastit-pyhtaan-kokkovuorella/
LOCATION:Kokkovuori\, Hirvimäentie 38\, Pyhtää
CATEGORIES:Rannikkorastit
END:VEVENT
BEGIN:VEVENT
DTSTART;TZID=Europe/Helsinki:20240903T170000
DTEND;TZID=Europe/Helsinki:20240903T200000
DTSTAMP:20260419T160457
CREATED:20240604T084933Z
LAST-MODIFIED:20240604T084933Z
UID:1115-1725382800-1725393600@www.kyminsuunnistajat.fi
SUMMARY:Rannikkorastit Kannusjärvellä
DESCRIPTION:Rannikkorastit-kauden 40. tapahtuma Haminan Kannusjärvellä. \nLisätiedot: Rannikkorastit.fi
URL:https://www.kyminsuunnistajat.fi/tapahtuma/rannikkorastit-kannusjarvella-2/
LOCATION:Kannusjärvi\, Haukjärvi\, Näkintie 117
CATEGORIES:Rannikkorastit
END:VEVENT
BEGIN:VEVENT
DTSTART;TZID=Europe/Helsinki:20240829T170000
DTEND;TZID=Europe/Helsinki:20240829T200000
DTSTAMP:20260419T160457
CREATED:20240604T084739Z
LAST-MODIFIED:20240604T084754Z
UID:1111-1724950800-1724961600@www.kyminsuunnistajat.fi
SUMMARY:Rannikkorastit Pyhtään Ulkokylässä
DESCRIPTION:Rannikkorastit-kauden 39. tapahtuma Pyhtään Ulkokylässä. \nLisätiedot: Rannikkorastit.fi
URL:https://www.kyminsuunnistajat.fi/tapahtuma/rannikkorastit-pyhtaan-ulkokylassa-2/
LOCATION:Ulkokylä\, Pyhtää\, Pirtnuorantie 45\, Pyhtää
CATEGORIES:Rannikkorastit
END:VEVENT
BEGIN:VEVENT
DTSTART;TZID=Europe/Helsinki:20240827T170000
DTEND;TZID=Europe/Helsinki:20240827T200000
DTSTAMP:20260419T160457
CREATED:20240603T101800Z
LAST-MODIFIED:20240603T101800Z
UID:1040-1724778000-1724788800@www.kyminsuunnistajat.fi
SUMMARY:Rannikkorastit Pyhtään Kangasmäellä
DESCRIPTION:Rannikkorastit-kauden 38. tapahtuma Pyhtään Kangasmäellä. \nLisätiedot: Rannikkorastit.fi
URL:https://www.kyminsuunnistajat.fi/tapahtuma/rannikkorastit-pyhtaan-kangasmaella/
LOCATION:Kangasmäki\, Kaidansuontie 4\, Pyhtää
CATEGORIES:Rannikkorastit
END:VEVENT
BEGIN:VEVENT
DTSTART;TZID=Europe/Helsinki:20240822T170000
DTEND;TZID=Europe/Helsinki:20240822T200000
DTSTAMP:20260419T160457
CREATED:20240604T084458Z
LAST-MODIFIED:20240604T084458Z
UID:1108-1724346000-1724356800@www.kyminsuunnistajat.fi
SUMMARY:Rannikkorastit Ruissalon Lankamalmilla
DESCRIPTION:Rannikkorastit-kauden 37. tapahtuma Haminan Ruissalossa. \nLisätiedot: Rannikkorastit.fi
URL:https://www.kyminsuunnistajat.fi/tapahtuma/rannikkorastit-ruissalon-lankamalmilla/
LOCATION:Ruissalo\, Lankamalmi\, Lankamalmintie 35\, Hamina
CATEGORIES:Rannikkorastit
END:VEVENT
BEGIN:VEVENT
DTSTART;TZID=Europe/Helsinki:20240820T170000
DTEND;TZID=Europe/Helsinki:20240820T200000
DTSTAMP:20260419T160457
CREATED:20240604T084304Z
LAST-MODIFIED:20240604T084304Z
UID:1105-1724173200-1724184000@www.kyminsuunnistajat.fi
SUMMARY:Rannikkorastit Haminan Neuvottomassa
DESCRIPTION:Rannikkorastit-kaudenn 36. tapahtuma Haminan Neuvottomassa. \nLisätiedot: Rannikkorastit.fi
URL:https://www.kyminsuunnistajat.fi/tapahtuma/rannikkorastit-haminan-neuvottomassa/
LOCATION:Neuvoton\, Ruduksen soramonttu\, Heinsuontie 13\, Hamina
END:VEVENT
BEGIN:VEVENT
DTSTART;TZID=Europe/Helsinki:20240815T170000
DTEND;TZID=Europe/Helsinki:20240815T200000
DTSTAMP:20260419T160457
CREATED:20240604T084055Z
LAST-MODIFIED:20240604T084055Z
UID:1102-1723741200-1723752000@www.kyminsuunnistajat.fi
SUMMARY:Rannikkorastit Haminan Tarmolassa
DESCRIPTION:Rannikkorastit-kauden 35. tapahtuma Haminan Tarmolassa. \nLisätiedot: Rannikkorastit.fi
URL:https://www.kyminsuunnistajat.fi/tapahtuma/rannikkorastit-haminan-tarmolassa/
LOCATION:Tarmola\, Tiiliruukinkatu 2\, Hamina
CATEGORIES:Rannikkorastit
END:VEVENT
BEGIN:VEVENT
DTSTART;TZID=Europe/Helsinki:20240813T170000
DTEND;TZID=Europe/Helsinki:20240813T200000
DTSTAMP:20260419T160457
CREATED:20240603T100416Z
LAST-MODIFIED:20240603T100416Z
UID:1037-1723568400-1723579200@www.kyminsuunnistajat.fi
SUMMARY:Rannikkorastit Honkalassa
DESCRIPTION:Rannikkorastit-kauden 34. tapahtuma Kotkan Honkalassa. \n  \nLisätiedot: Rannikkorastit.fi
URL:https://www.kyminsuunnistajat.fi/tapahtuma/rannikkorastit-honkalassa/
LOCATION:Honkala\, Honkalantie 14\, Kotka
CATEGORIES:Rannikkorastit
END:VEVENT
BEGIN:VEVENT
DTSTART;TZID=Europe/Helsinki:20240808T170000
DTEND;TZID=Europe/Helsinki:20240808T200000
DTSTAMP:20260419T160457
CREATED:20240604T083900Z
LAST-MODIFIED:20240604T083900Z
UID:1099-1723136400-1723147200@www.kyminsuunnistajat.fi
SUMMARY:Rannikkorastit Haminan Husulassa
DESCRIPTION:Rannikkorastit-kauden 33. tapahtuma Haminan Husulassa. \nLisätiedot: Rannikkorastit.fi
URL:https://www.kyminsuunnistajat.fi/tapahtuma/rannikkorastit-haminan-husulassa/
LOCATION:Husula\, Kirimaja\, Tuomistontie 7\, Hamina
CATEGORIES:Rannikkorastit
END:VEVENT
END:VCALENDAR